BEGIN:VCALENDAR
VERSION:2.0
PRODID:-//Hotel Speicher Barth - ECPv6.15.20//NONSGML v1.0//EN
CALSCALE:GREGORIAN
METHOD:PUBLISH
X-ORIGINAL-URL:https://www.speicher-barth.de
X-WR-CALDESC:Veranstaltungen für Hotel Speicher Barth
REFRESH-INTERVAL;VALUE=DURATION:PT1H
X-Robots-Tag:noindex
X-PUBLISHED-TTL:PT1H
BEGIN:VTIMEZONE
TZID:Europe/Berlin
BEGIN:DAYLIGHT
TZOFFSETFROM:+0100
TZOFFSETTO:+0200
TZNAME:CEST
DTSTART:20240331T010000
END:DAYLIGHT
BEGIN:STANDARD
TZOFFSETFROM:+0200
TZOFFSETTO:+0100
TZNAME:CET
DTSTART:20241027T010000
END:STANDARD
BEGIN:DAYLIGHT
TZOFFSETFROM:+0100
TZOFFSETTO:+0200
TZNAME:CEST
DTSTART:20250330T010000
END:DAYLIGHT
BEGIN:STANDARD
TZOFFSETFROM:+0200
TZOFFSETTO:+0100
TZNAME:CET
DTSTART:20251026T010000
END:STANDARD
BEGIN:DAYLIGHT
TZOFFSETFROM:+0100
TZOFFSETTO:+0200
TZNAME:CEST
DTSTART:20260329T010000
END:DAYLIGHT
BEGIN:STANDARD
TZOFFSETFROM:+0200
TZOFFSETTO:+0100
TZNAME:CET
DTSTART:20261025T010000
END:STANDARD
END:VTIMEZONE
BEGIN:VEVENT
DTSTART;TZID=Europe/Berlin:20250417T130000
DTEND;TZID=Europe/Berlin:20250417T210000
DTSTAMP:20260424T231414
CREATED:20250412T113948Z
LAST-MODIFIED:20250412T113948Z
UID:10501-1744894800-1744923600@www.speicher-barth.de
SUMMARY:770 Jahre Barth - Der Stadtgeburtstag
DESCRIPTION:Am 17.04. feiert die schöne Stadt Barth den 770. Geburtstag – und alle sind herzlich zum mitfeiern eingeladen! Auf dem Marktplatz wartet an diesem Tag ein buntes Programm für die ganze Familie um unserer Stadt und ihren Bürgern den Tag zu geben\, den sie verdienen! \nBühnenprogramm \n\n13:00 Uhr Eröffnung\n13:15 Uhr Barther Carneval Club e.V.\n13:30 Uhr Musik mit „In Familie“\n14:30 Uhr Überraschung\n15:15 Uhr Blaskapelle Hochgräber\n16:30 Uhr Barther Fanfarenzug\n17:15 Uhr Ehrenamtsaktion\n17:30 Uhr Spielmannszug Barth\n18:30 Uhr Roland Kaiser Double
URL:https://www.speicher-barth.de/event/770-jahre-barth-der-stadtgeburtstag/
LOCATION:Marktplatz Barth\, Am Markt\, Barth\, 18356\, Deutschland
ATTACH;FMTTYPE=image/jpeg:https://www.speicher-barth.de/wp-content/uploads/2025/04/IMG_20250412_133219_182.jpg
ORGANIZER;CN="Stadt Barth":MAILTO:info@amt-barth.de
END:VEVENT
END:VCALENDAR