BEGIN:VCALENDAR
VERSION:2.0
PRODID:-//Hotel Speicher Barth - ECPv6.15.20//NONSGML v1.0//EN
CALSCALE:GREGORIAN
METHOD:PUBLISH
X-WR-CALNAME:Hotel Speicher Barth
X-ORIGINAL-URL:https://www.speicher-barth.de
X-WR-CALDESC:Veranstaltungen für Hotel Speicher Barth
REFRESH-INTERVAL;VALUE=DURATION:PT1H
X-Robots-Tag:noindex
X-PUBLISHED-TTL:PT1H
BEGIN:VTIMEZONE
TZID:Europe/Berlin
BEGIN:DAYLIGHT
TZOFFSETFROM:+0100
TZOFFSETTO:+0200
TZNAME:CEST
DTSTART:20240331T010000
END:DAYLIGHT
BEGIN:STANDARD
TZOFFSETFROM:+0200
TZOFFSETTO:+0100
TZNAME:CET
DTSTART:20241027T010000
END:STANDARD
BEGIN:DAYLIGHT
TZOFFSETFROM:+0100
TZOFFSETTO:+0200
TZNAME:CEST
DTSTART:20250330T010000
END:DAYLIGHT
BEGIN:STANDARD
TZOFFSETFROM:+0200
TZOFFSETTO:+0100
TZNAME:CET
DTSTART:20251026T010000
END:STANDARD
BEGIN:DAYLIGHT
TZOFFSETFROM:+0100
TZOFFSETTO:+0200
TZNAME:CEST
DTSTART:20260329T010000
END:DAYLIGHT
BEGIN:STANDARD
TZOFFSETFROM:+0200
TZOFFSETTO:+0100
TZNAME:CET
DTSTART:20261025T010000
END:STANDARD
END:VTIMEZONE
BEGIN:VEVENT
DTSTART;TZID=Europe/Berlin:20250423T190000
DTEND;TZID=Europe/Berlin:20250426T220000
DTSTAMP:20260424T232101
CREATED:20250109T080453Z
LAST-MODIFIED:20250109T080453Z
UID:10460-1745434800-1745704800@www.speicher-barth.de
SUMMARY:22. Kammermusiktage Barth
DESCRIPTION:Martin Panteleev\, der Virtuose an der Violine\, \npreisgekrönter Komponist und renommierter Dirigent \nist wieder in Barth. Zu den Kammermusiktagen 2025 wird er erneut \nsein Publikum im Vineta Festsaal des Vineta Bürgerhauses begeistern. \nAlle Konzerte und mehr Infos auf der Seite der Stadt Barth!
URL:https://www.speicher-barth.de/event/22-kammermusiktage-barth/
LOCATION:Vineta Bürgerhaus\, Papenstraße 8\, Barth\, 18356
ATTACH;FMTTYPE=image/jpeg:https://www.speicher-barth.de/wp-content/uploads/2023/02/Martin-Panteleev.jpg
ORGANIZER;CN="Art Club Martin Panteleev e.V.":MAILTO:artclub@kammermusiktage-barth.de
END:VEVENT
BEGIN:VEVENT
DTSTART;TZID=Europe/Berlin:20250426T080000
DTEND;TZID=Europe/Berlin:20250427T180000
DTSTAMP:20260424T232101
CREATED:20250412T114448Z
LAST-MODIFIED:20250412T114448Z
UID:10504-1745654400-1745776800@www.speicher-barth.de
SUMMARY:50. Motorcross - Landesmeisterschaft
DESCRIPTION:Auf der Motorcrossstrecke am Kaninchenberg in Barth-Glöwitz warten wieder spannende Rennen auf Sie! \nMehr Infos auf der unten angegebenen Website.
URL:https://www.speicher-barth.de/event/50-motorcross-landesmeisterschaft/
LOCATION:Motocross Strecke am Kanichenberg\, Udo-von-Glowacki-Weg\, Barth\, 18351
ORGANIZER;CN="MSC Barth e.V.":MAILTO:msc-barth@web.de
END:VEVENT
END:VCALENDAR