BEGIN:VCALENDAR
VERSION:2.0
PRODID:-//Hotel Speicher Barth - ECPv6.15.20//NONSGML v1.0//EN
CALSCALE:GREGORIAN
METHOD:PUBLISH
X-ORIGINAL-URL:https://www.speicher-barth.de
X-WR-CALDESC:Veranstaltungen für Hotel Speicher Barth
REFRESH-INTERVAL;VALUE=DURATION:PT1H
X-Robots-Tag:noindex
X-PUBLISHED-TTL:PT1H
BEGIN:VTIMEZONE
TZID:Europe/Berlin
BEGIN:DAYLIGHT
TZOFFSETFROM:+0100
TZOFFSETTO:+0200
TZNAME:CEST
DTSTART:20240331T010000
END:DAYLIGHT
BEGIN:STANDARD
TZOFFSETFROM:+0200
TZOFFSETTO:+0100
TZNAME:CET
DTSTART:20241027T010000
END:STANDARD
BEGIN:DAYLIGHT
TZOFFSETFROM:+0100
TZOFFSETTO:+0200
TZNAME:CEST
DTSTART:20250330T010000
END:DAYLIGHT
BEGIN:STANDARD
TZOFFSETFROM:+0200
TZOFFSETTO:+0100
TZNAME:CET
DTSTART:20251026T010000
END:STANDARD
BEGIN:DAYLIGHT
TZOFFSETFROM:+0100
TZOFFSETTO:+0200
TZNAME:CEST
DTSTART:20260329T010000
END:DAYLIGHT
BEGIN:STANDARD
TZOFFSETFROM:+0200
TZOFFSETTO:+0100
TZNAME:CET
DTSTART:20261025T010000
END:STANDARD
END:VTIMEZONE
BEGIN:VEVENT
DTSTART;TZID=Europe/Berlin:20250516T180000
DTEND;TZID=Europe/Berlin:20250518T100000
DTSTAMP:20260424T182047
CREATED:20250109T080732Z
LAST-MODIFIED:20250109T080732Z
UID:10462-1747418400-1747562400@www.speicher-barth.de
SUMMARY:28. Barther Tonnenabschlagen
DESCRIPTION:Das Tonnenabschlagen gehört zu den ältesten Bräuchen in der Region. Hierbei handelt es sich um einen Wettstreit\, der meist zu Pferde ausgetragen wird. Geritten wird um die Königswürde des Tonnen-\, Stäben- bzw. Bodenkönigs – sie bleibt bis zum nächsten Tonnenabschlagen bestehen.
URL:https://www.speicher-barth.de/event/28-barther-tonnenabschlagen/
LOCATION:Festplatz Trebin\, Trebin\, Barth\, 18356
ATTACH;FMTTYPE=image/jpeg:https://www.speicher-barth.de/wp-content/uploads/2023/02/Tonnenabschlagen.jpg
ORGANIZER;CN="Tonnenbund-Barth e.V.":MAILTO:tonnenbund-barth@web.de
END:VEVENT
BEGIN:VEVENT
DTSTART;TZID=Europe/Berlin:20250516T210000
DTEND;TZID=Europe/Berlin:20250516T223000
DTSTAMP:20260424T182047
CREATED:20250427T122719Z
LAST-MODIFIED:20250427T122719Z
UID:10528-1747429200-1747434600@www.speicher-barth.de
SUMMARY:Barther Hexennächte
DESCRIPTION:Ein schauriger Rundgang rund um die Hexenprozesse durch die Stadt Barth. \nTickets 8 € im Vineta-Bürgerhaus oder Online.
URL:https://www.speicher-barth.de/event/barther-hexennaechte-2/
LOCATION:Barth Innenstadt\, Barth\, 18356
ATTACH;FMTTYPE=image/jpeg:https://www.speicher-barth.de/wp-content/uploads/2024/08/witch-ban-441868_1280.jpg
ORGANIZER;CN="Vineta B%C3%BCrgerhaus":MAILTO:info@stadt-barth.de
END:VEVENT
END:VCALENDAR