BEGIN:VCALENDAR
VERSION:2.0
PRODID:-//Hotel Speicher Barth - ECPv6.15.20//NONSGML v1.0//EN
CALSCALE:GREGORIAN
METHOD:PUBLISH
X-ORIGINAL-URL:https://www.speicher-barth.de
X-WR-CALDESC:Veranstaltungen für Hotel Speicher Barth
REFRESH-INTERVAL;VALUE=DURATION:PT1H
X-Robots-Tag:noindex
X-PUBLISHED-TTL:PT1H
BEGIN:VTIMEZONE
TZID:Europe/Berlin
BEGIN:DAYLIGHT
TZOFFSETFROM:+0100
TZOFFSETTO:+0200
TZNAME:CEST
DTSTART:20240331T010000
END:DAYLIGHT
BEGIN:STANDARD
TZOFFSETFROM:+0200
TZOFFSETTO:+0100
TZNAME:CET
DTSTART:20241027T010000
END:STANDARD
BEGIN:DAYLIGHT
TZOFFSETFROM:+0100
TZOFFSETTO:+0200
TZNAME:CEST
DTSTART:20250330T010000
END:DAYLIGHT
BEGIN:STANDARD
TZOFFSETFROM:+0200
TZOFFSETTO:+0100
TZNAME:CET
DTSTART:20251026T010000
END:STANDARD
BEGIN:DAYLIGHT
TZOFFSETFROM:+0100
TZOFFSETTO:+0200
TZNAME:CEST
DTSTART:20260329T010000
END:DAYLIGHT
BEGIN:STANDARD
TZOFFSETFROM:+0200
TZOFFSETTO:+0100
TZNAME:CET
DTSTART:20261025T010000
END:STANDARD
END:VTIMEZONE
BEGIN:VEVENT
DTSTART;TZID=Europe/Berlin:20250728T143000
DTEND;TZID=Europe/Berlin:20250728T153000
DTSTAMP:20260424T235008
CREATED:20250721T125355Z
LAST-MODIFIED:20250721T125355Z
UID:10573-1753713000-1753716600@www.speicher-barth.de
SUMMARY:Sightseeing mit der Darßbahn
DESCRIPTION:Mit der Darssbahn erkundet ihr die Stadt Barth und erfahrt Interessantes zur Stadtgeschichte\, könnt Tore\, Türen\, Häuser gucken und die Nasen im Fahrtwind wehen lassen. Ideal auch für Familien. Begleitet wird die Tour von einem erfahrenen Stadtführer. \nStart der Tour in 18356 Barth\, Am Hafen Fahrtdauer ca. 1 Stunde \nTickets: * 12 € p.P. (Kinder ermäßigt)\, *Inhaber einer Gästekarte Fischland-Darß-Zingst 10 € p.P. \n 
URL:https://www.speicher-barth.de/event/sightseeing-mit-der-darssbahn/
LOCATION:Barther Hafen\, Hafenstraße\, Barth\, 18356
ORGANIZER;CN="Vineta B%C3%BCrgerhaus":MAILTO:info@stadt-barth.de
END:VEVENT
END:VCALENDAR