BEGIN:VCALENDAR
VERSION:2.0
PRODID:-//Hotel Speicher Barth - ECPv6.15.20//NONSGML v1.0//EN
CALSCALE:GREGORIAN
METHOD:PUBLISH
X-ORIGINAL-URL:https://www.speicher-barth.de
X-WR-CALDESC:Veranstaltungen für Hotel Speicher Barth
REFRESH-INTERVAL;VALUE=DURATION:PT1H
X-Robots-Tag:noindex
X-PUBLISHED-TTL:PT1H
BEGIN:VTIMEZONE
TZID:Europe/Berlin
BEGIN:DAYLIGHT
TZOFFSETFROM:+0100
TZOFFSETTO:+0200
TZNAME:CEST
DTSTART:20250330T010000
END:DAYLIGHT
BEGIN:STANDARD
TZOFFSETFROM:+0200
TZOFFSETTO:+0100
TZNAME:CET
DTSTART:20251026T010000
END:STANDARD
BEGIN:DAYLIGHT
TZOFFSETFROM:+0100
TZOFFSETTO:+0200
TZNAME:CEST
DTSTART:20260329T010000
END:DAYLIGHT
BEGIN:STANDARD
TZOFFSETFROM:+0200
TZOFFSETTO:+0100
TZNAME:CET
DTSTART:20261025T010000
END:STANDARD
BEGIN:DAYLIGHT
TZOFFSETFROM:+0100
TZOFFSETTO:+0200
TZNAME:CEST
DTSTART:20270328T010000
END:DAYLIGHT
BEGIN:STANDARD
TZOFFSETFROM:+0200
TZOFFSETTO:+0100
TZNAME:CET
DTSTART:20271031T010000
END:STANDARD
END:VTIMEZONE
BEGIN:VEVENT
DTSTART;TZID=Europe/Berlin:20260402T130000
DTEND;TZID=Europe/Berlin:20260402T170000
DTSTAMP:20260422T092313
CREATED:20260103T072819Z
LAST-MODIFIED:20260103T072819Z
UID:10697-1775134800-1775149200@www.speicher-barth.de
SUMMARY:Bücherfest zum Weltkinderbuchtag
DESCRIPTION:Feiert im Vineta Bürgerhaus das Fest zum Kinderweltbuchtag.
URL:https://www.speicher-barth.de/event/buecherfest-zum-weltkinderbuchtag/
LOCATION:Vineta Bürgerhaus\, Papenstraße 8\, Barth\, 18356
ATTACH;FMTTYPE=image/jpeg:https://www.speicher-barth.de/wp-content/uploads/2025/03/books-4753506_1280.jpg
ORGANIZER;CN="Vineta B%C3%BCrgerhaus":MAILTO:info@stadt-barth.de
END:VEVENT
END:VCALENDAR