BEGIN:VCALENDAR
VERSION:2.0
PRODID:-//Hotel Speicher Barth - ECPv6.15.20//NONSGML v1.0//EN
CALSCALE:GREGORIAN
METHOD:PUBLISH
X-ORIGINAL-URL:https://www.speicher-barth.de
X-WR-CALDESC:Veranstaltungen für Hotel Speicher Barth
REFRESH-INTERVAL;VALUE=DURATION:PT1H
X-Robots-Tag:noindex
X-PUBLISHED-TTL:PT1H
BEGIN:VTIMEZONE
TZID:Europe/Berlin
BEGIN:DAYLIGHT
TZOFFSETFROM:+0100
TZOFFSETTO:+0200
TZNAME:CEST
DTSTART:20240331T010000
END:DAYLIGHT
BEGIN:STANDARD
TZOFFSETFROM:+0200
TZOFFSETTO:+0100
TZNAME:CET
DTSTART:20241027T010000
END:STANDARD
BEGIN:DAYLIGHT
TZOFFSETFROM:+0100
TZOFFSETTO:+0200
TZNAME:CEST
DTSTART:20250330T010000
END:DAYLIGHT
BEGIN:STANDARD
TZOFFSETFROM:+0200
TZOFFSETTO:+0100
TZNAME:CET
DTSTART:20251026T010000
END:STANDARD
BEGIN:DAYLIGHT
TZOFFSETFROM:+0100
TZOFFSETTO:+0200
TZNAME:CEST
DTSTART:20260329T010000
END:DAYLIGHT
BEGIN:STANDARD
TZOFFSETFROM:+0200
TZOFFSETTO:+0100
TZNAME:CET
DTSTART:20261025T010000
END:STANDARD
BEGIN:DAYLIGHT
TZOFFSETFROM:+0100
TZOFFSETTO:+0200
TZNAME:CEST
DTSTART:20270328T010000
END:DAYLIGHT
BEGIN:STANDARD
TZOFFSETFROM:+0200
TZOFFSETTO:+0100
TZNAME:CET
DTSTART:20271031T010000
END:STANDARD
END:VTIMEZONE
BEGIN:VEVENT
DTSTART;TZID=Europe/Berlin:20260408T190000
DTEND;TZID=Europe/Berlin:20260408T220000
DTSTAMP:20260422T080640
CREATED:20260103T080237Z
LAST-MODIFIED:20260103T083909Z
UID:10700-1775674800-1775685600@www.speicher-barth.de
SUMMARY:23. Kammermusiktage
DESCRIPTION:Die Barther Kammermusiktage gehören seit über zwei Jahrzehnten zu den festen Terminen im norddeutschen Kulturkalender.\nVom 8. bis 11. April 2026 lädt der Art Club Martin Panteleev e.V. zur 23. Ausgabe des Festivals in das Vineta Bürgerhaus in Barth ein.
URL:https://www.speicher-barth.de/event/23-kammermusiktage/
LOCATION:Vineta Bürgerhaus\, Papenstraße 8\, Barth\, 18356
ATTACH;FMTTYPE=image/jpeg:https://www.speicher-barth.de/wp-content/uploads/2023/02/Martin-Panteleev.jpg
ORGANIZER;CN="Art Club Martin Panteleev e.V.":MAILTO:artclub@kammermusiktage-barth.de
END:VEVENT
BEGIN:VEVENT
DTSTART;TZID=Europe/Berlin:20260404T160000
DTEND;TZID=Europe/Berlin:20260404T200000
DTSTAMP:20260422T080640
CREATED:20251214T134107Z
LAST-MODIFIED:20251214T134107Z
UID:10690-1775318400-1775332800@www.speicher-barth.de
SUMMARY:Großes Barther Osterfeuer
DESCRIPTION:„Auf der Festwiese an der Umgehungsstraße läuten wir gemeinsam mit Euch das Osterfest ein. Mit der Freiwilligen Feuerwehr der Stadt Barth feiern wir bei Musik\, Leckerem vom Grill und Getränken am Osterfeuer.\nWie immer bei uns in der Vinetastadt kommen auch die Familien mit Kindern nicht zu kurz\, denen bei Spiel und Spaß ganz sicher nicht langweilig werden wird.“ – https://www.stadt-barth.de/event-details/151722-grosses-barther-osterfeuer.html
URL:https://www.speicher-barth.de/event/grosses-barther-osterfeuer/
LOCATION:Barth\, Festplatz Trebin\, Barth Trebin\, 18356
ATTACH;FMTTYPE=image/jpeg:https://www.speicher-barth.de/wp-content/uploads/2024/01/easter-fire-2235166_1280.jpg
ORGANIZER;CN="Vineta B%C3%BCrgerhaus":MAILTO:info@stadt-barth.de
END:VEVENT
BEGIN:VEVENT
DTSTART;TZID=Europe/Berlin:20260402T130000
DTEND;TZID=Europe/Berlin:20260402T170000
DTSTAMP:20260422T080640
CREATED:20260103T072819Z
LAST-MODIFIED:20260103T072819Z
UID:10697-1775134800-1775149200@www.speicher-barth.de
SUMMARY:Bücherfest zum Weltkinderbuchtag
DESCRIPTION:Feiert im Vineta Bürgerhaus das Fest zum Kinderweltbuchtag.
URL:https://www.speicher-barth.de/event/buecherfest-zum-weltkinderbuchtag/
LOCATION:Vineta Bürgerhaus\, Papenstraße 8\, Barth\, 18356
ATTACH;FMTTYPE=image/jpeg:https://www.speicher-barth.de/wp-content/uploads/2025/03/books-4753506_1280.jpg
ORGANIZER;CN="Vineta B%C3%BCrgerhaus":MAILTO:info@stadt-barth.de
END:VEVENT
BEGIN:VEVENT
DTSTART;TZID=Europe/Berlin:20260213T193000
DTEND;TZID=Europe/Berlin:20260213T213000
DTSTAMP:20260422T080640
CREATED:20260103T072456Z
LAST-MODIFIED:20260103T072456Z
UID:10695-1771011000-1771018200@www.speicher-barth.de
SUMMARY:Die Blechtrommel
DESCRIPTION:Drama nach dem Roman von Günter Grass.
URL:https://www.speicher-barth.de/event/die-blechtrommel/
LOCATION:Barther Boddenbühne\, Trebin 35 a\, Barth\, 18356
END:VEVENT
BEGIN:VEVENT
DTSTART;TZID=Europe/Berlin:20260110T110000
DTEND;TZID=Europe/Berlin:20260110T150000
DTSTAMP:20260422T080640
CREATED:20251213T152142Z
LAST-MODIFIED:20251213T165058Z
UID:10684-1768042800-1768057200@www.speicher-barth.de
SUMMARY:Anbaden in Barth
DESCRIPTION:Wie jedes Jahr findet auch im Jahr 2026 wieder das Anbaden am Naturstrand Glöwitz statt.\nSchmeißt euch in die eisigen Fluten und wärmt euch danach in der mobilen Sauna oder bei einem Heißgetränk wieder auf. \nBist du mutig genug? \n  \n 
URL:https://www.speicher-barth.de/event/anbaden-in-barth/
LOCATION:Naturstrand Barth-Glöwitz\, Glöwitz 1\, Barth\, 18356
ATTACH;FMTTYPE=image/jpeg:https://www.speicher-barth.de/wp-content/uploads/2023/02/Hafen-Barth-120313.jpg
ORGANIZER;CN="Vineta B%C3%BCrgerhaus":MAILTO:info@stadt-barth.de
END:VEVENT
BEGIN:VEVENT
DTSTART;TZID=Europe/Berlin:20260102T190000
DTEND;TZID=Europe/Berlin:20260102T220000
DTSTAMP:20260422T080640
CREATED:20251213T151709Z
LAST-MODIFIED:20251213T151709Z
UID:10682-1767380400-1767391200@www.speicher-barth.de
SUMMARY:Barther Museumsnacht
DESCRIPTION:„Eine Nacht. Fünf Museen. Unzählige Geschichten.\nDie Barther Museumsnacht lädt dich zu einem Abend ein\, der leicht zugänglich ist und dennoch viel Tiefe bietet.\nDu steigst in eine kleine Stadtbahn und wirst von Museum zu Museum gefahren. Ohne Vorbereitung und ohne Hürden lernst du fünf Häuser kennen\, die auf unterschiedliche Weise von Barth erzählen.\nDie Barther Museumsnacht öffnet dir Wege in die Kultur der Stadt. Du lernst vertraute Orte neu kennen und entdeckst Räume\, die du vielleicht schon lange sehen wolltest.“ – https://www.stadt-barth.de/event-details/153010-barther-museumsnacht.html \n  \n 
URL:https://www.speicher-barth.de/event/barther-museumsnacht/
LOCATION:Vineta Bürgerhaus\, Papenstraße 8\, Barth\, 18356
ATTACH;FMTTYPE=image/jpeg:https://www.speicher-barth.de/wp-content/uploads/2023/06/Windjammer-Museum.jpg
ORGANIZER;CN="Vineta B%C3%BCrgerhaus":MAILTO:info@stadt-barth.de
END:VEVENT
BEGIN:VEVENT
DTSTART;TZID=Europe/Berlin:20251231T170000
DTEND;TZID=Europe/Berlin:20251231T180000
DTSTAMP:20260422T080640
CREATED:20251213T150928Z
LAST-MODIFIED:20251213T150928Z
UID:10680-1767200400-1767204000@www.speicher-barth.de
SUMMARY:Wunschlichterfahrt
DESCRIPTION:„Am Silvesterabend lädt die Glückssternfee Taraloka zu einer magischen Wunschlichterfahrt durch Barth ein. In der stimmungsvoll beleuchteten Wunschbahn erleben Kinder und Erwachsene eine besondere Stunde\, die ganz den Wünschen für das kommende Jahr gewidmet ist.\nMit stillen Momenten der Achtsamkeit\, feinem Feenzauber und einem leuchtenden Wunschlicht entsteht eine atmosphärische Reise voller Hoffnung und innerer Freude.“\n– https://www.stadt-barth.de/event-details/152393-wunschlichterfahrt.html
URL:https://www.speicher-barth.de/event/wunschlichterfahrt/
LOCATION:Vineta Bürgerhaus\, Papenstraße 8\, Barth\, 18356
ORGANIZER;CN="Vineta B%C3%BCrgerhaus":MAILTO:info@stadt-barth.de
END:VEVENT
BEGIN:VEVENT
DTSTART;TZID=Europe/Berlin:20251220T200000
DTEND;TZID=Europe/Berlin:20251221T020000
DTSTAMP:20260422T080640
CREATED:20250109T082159Z
LAST-MODIFIED:20250109T082159Z
UID:10468-1766260800-1766282400@www.speicher-barth.de
SUMMARY:White Christmas Party
DESCRIPTION:Wie jedes Jahr wartet auch 2025 die White Christmas Party auf Sie. Ganz im Stile von alles ist weiß heizt Ihnen ein DJ die Nacht über ein.\nTickets: 20\,00 €\, Einlass ab 18 Jahre \nSchnell sein lohnt sich – die Tickets sind immer schnell ausverkauft!
URL:https://www.speicher-barth.de/event/white-christmas-party/
LOCATION:Vineta Bürgerhaus\, Papenstraße 8\, Barth\, 18356
ATTACH;FMTTYPE=image/jpeg:https://www.speicher-barth.de/wp-content/uploads/2023/10/snowman-1090261_1280.jpg
ORGANIZER;CN="Vineta B%C3%BCrgerhaus":MAILTO:info@stadt-barth.de
END:VEVENT
BEGIN:VEVENT
DTSTART;TZID=Europe/Berlin:20251124T100000
DTEND;TZID=Europe/Berlin:20260104T200000
DTSTAMP:20260422T080640
CREATED:20251015T070839Z
LAST-MODIFIED:20251015T070932Z
UID:10632-1763978400-1767556800@www.speicher-barth.de
SUMMARY:Stralsunder Weihnachtsmarkt
DESCRIPTION:Erleben Sie vom 24. November bis zum 4. Januar\, wie sich die historische Altstadt Stralsunds in eine stimmungsvolle Winterlandschaft verwandelt.\nDer Weihnachtsmarkt erstreckt sich über vier einzigartige Orte – Alter Markt\, Neuer Markt\, Rathauskeller und Johanniskloster und ist ein Highlight für die ganze Familie.
URL:https://www.speicher-barth.de/event/stralsunder-weihnachtsmarkt/
LOCATION:Altstadt Stralsund\, Alter Markt 3-4\, Stralsund\, 18439
ATTACH;FMTTYPE=image/jpeg:https://www.speicher-barth.de/wp-content/uploads/2025/10/christmas-market-540918_1280.jpg
ORGANIZER;CN="Stadtwerke Stralsund":MAILTO:weihnachtsmarkt@stadtwerke-stralsund.de
END:VEVENT
BEGIN:VEVENT
DTSTART;TZID=Europe/Berlin:20251122T100000
DTEND;TZID=Europe/Berlin:20251122T170000
DTSTAMP:20260422T080640
CREATED:20250924T073650Z
LAST-MODIFIED:20250924T073650Z
UID:10605-1763805600-1763830800@www.speicher-barth.de
SUMMARY:Frauen.Werk
DESCRIPTION:Schenkt euch Frauen einen Tag Auszeit im Vineta Bürgerhaus in Barth. Eine „Frauenmesse“ mit dem ganz besonderen Wohlfühlcharakter.\n„Zeit für mich & für meine Freundinnen“\, dieser Gedanke steckt hinter unserer Veranstaltung.
URL:https://www.speicher-barth.de/event/frauen-werk/
LOCATION:Vineta Bürgerhaus\, Papenstraße 8\, Barth\, 18356
ORGANIZER;CN="Vineta B%C3%BCrgerhaus":MAILTO:info@stadt-barth.de
END:VEVENT
BEGIN:VEVENT
DTSTART;TZID=Europe/Berlin:20251121T180000
DTEND;TZID=Europe/Berlin:20251121T210000
DTSTAMP:20260422T080640
CREATED:20250918T061447Z
LAST-MODIFIED:20250918T061447Z
UID:10598-1763748000-1763758800@www.speicher-barth.de
SUMMARY:HÄNDE HOCH! Musikalische Krimi-Lesung mit Bert Lingnau und Robert Meyer
DESCRIPTION:Eine musikalische Krimi – Lesung mit Bert Lingnau und Robert Meyer begleitet von einem leckeren 3-Gang Menü.
URL:https://www.speicher-barth.de/event/haende-hoch-musikalische-krimi-lesung-mit-bert-lingnau-und-robert-meyer/
LOCATION:Ingo´s Restaurant\, Am Osthafen 2\, Barth\, 18356\, Germany
ATTACH;FMTTYPE=image/jpeg:https://www.speicher-barth.de/wp-content/uploads/2025/09/a-book-4835623_1280.jpg
END:VEVENT
BEGIN:VEVENT
DTSTART;TZID=Europe/Berlin:20251031T180000
DTEND;TZID=Europe/Berlin:20251031T210000
DTSTAMP:20260422T080640
CREATED:20251028T064916Z
LAST-MODIFIED:20251028T064916Z
UID:10670-1761933600-1761944400@www.speicher-barth.de
SUMMARY:Halloweenparty in Ingo´s Restaurant
DESCRIPTION:Ab 18 Uhr lädt euch Ingo´s Restaurant zu einer Halloweenparty ein.\nAuf euch warten coole Musik\, gruselige Kostüme und leckere Drinks.\nDer Eintritt ist kostenfrei!
URL:https://www.speicher-barth.de/event/halloweenparty-in-ingos-restaurant/
ATTACH;FMTTYPE=image/jpeg:https://www.speicher-barth.de/wp-content/uploads/2025/10/jack-o-lanterns-5674148_1280.jpg
END:VEVENT
BEGIN:VEVENT
DTSTART;TZID=Europe/Berlin:20251031T170000
DTEND;TZID=Europe/Berlin:20251031T170000
DTSTAMP:20260422T080640
CREATED:20251028T064458Z
LAST-MODIFIED:20251028T064458Z
UID:10668-1761930000-1761930000@www.speicher-barth.de
SUMMARY:Halloween Geisterbahnfahrt
DESCRIPTION:Mit der Darssbahn durch Barth. Hälst du den Grusel wirklich aus?\nWägt euch nicht in Sicherheit in dieser Geisterbahn\, denn an diesem Abend begegnen euch möglicherweise Gestalten aus der dunklen Geschichte unserer Stadt. \n\nTourdauer: ca. 45 Minuten. Kommt gern in gruseliger Verkleidung. Start und Ende am Vineta-Bürgerhaus\, Papenstraße 8 in 18356 Barth \nAbfahrt alle 15 Minuten \nPlatzanzahl ist begrenzt. Wir bitten deshalb den Vorverkauf zu nutzen\, um ganz sicher dabei zu sein. \n\nEs erwarten euch gespenstische Rundfahrten mit unseren Geisterbahnen durch Barth.
URL:https://www.speicher-barth.de/event/halloween-geisterbahnfahrt/
LOCATION:Vineta Bürgerhaus\, Papenstraße 8\, Barth\, 18356
ORGANIZER;CN="Vineta B%C3%BCrgerhaus":MAILTO:info@stadt-barth.de
END:VEVENT
BEGIN:VEVENT
DTSTART;TZID=Europe/Berlin:20251031T160000
DTEND;TZID=Europe/Berlin:20251031T190000
DTSTAMP:20260422T080640
CREATED:20250924T081208Z
LAST-MODIFIED:20250924T081208Z
UID:10614-1761926400-1761937200@www.speicher-barth.de
SUMMARY:Halloween im Turm
DESCRIPTION:Erlebt den Barther Fangelturm von seiner schaurigsten Seite am Halloween-Abend.
URL:https://www.speicher-barth.de/event/halloween-im-turm/
LOCATION:Fangelturm Barth\, Turmstraße\, Barth\, 18356
ORGANIZER;CN="Barther Heimatverein":MAILTO:mario-galepp@t-online.de
END:VEVENT
BEGIN:VEVENT
DTSTART;TZID=Europe/Berlin:20251024T210000
DTEND;TZID=Europe/Berlin:20251024T220000
DTSTAMP:20260422T080640
CREATED:20250924T075605Z
LAST-MODIFIED:20250924T080136Z
UID:10612-1761339600-1761343200@www.speicher-barth.de
SUMMARY:Mit Laterne und Lok - Nachtwächter on tour
DESCRIPTION:Die Fahrt verbindet Sightseeing mit mittelalterlichem Flair.
URL:https://www.speicher-barth.de/event/mit-laterne-und-lok-nachtwaechter-on-tour/
LOCATION:Barth\, Festplatz Trebin\, Barth Trebin\, 18356
ORGANIZER;CN="Vineta B%C3%BCrgerhaus":MAILTO:info@stadt-barth.de
END:VEVENT
BEGIN:VEVENT
DTSTART;TZID=Europe/Berlin:20251017T200000
DTEND;TZID=Europe/Berlin:20251017T220000
DTSTAMP:20260422T080640
CREATED:20250618T130123Z
LAST-MODIFIED:20250618T130123Z
UID:10563-1760731200-1760738400@www.speicher-barth.de
SUMMARY:Barther Kneipentour
DESCRIPTION:Bands\, Lokale und ein definitiv unvergesslicher Abend erwarten euch bei der zweiten Barther Kneipentour! Der Eintritt ist überall frei.
URL:https://www.speicher-barth.de/event/barther-kneipentour-2/
LOCATION:Barth Innenstadt\, Barth\, 18356
ATTACH;FMTTYPE=image/jpeg:https://www.speicher-barth.de/wp-content/uploads/2025/06/bar-209148_1280.jpg
ORGANIZER;CN="Vineta B%C3%BCrgerhaus":MAILTO:info@stadt-barth.de
END:VEVENT
BEGIN:VEVENT
DTSTART;TZID=Europe/Berlin:20251017T200000
DTEND;TZID=Europe/Berlin:20251017T210000
DTSTAMP:20260422T080640
CREATED:20250924T075233Z
LAST-MODIFIED:20250924T075233Z
UID:10610-1760731200-1760734800@www.speicher-barth.de
SUMMARY:"Lights on" - Die Lichterfahrt
DESCRIPTION:Steigt ein und fahrt mit der eindrucksvoll beleuchteten Bimmelbahn (Darßbahn Erlebnistouren) – hört und seht in die beginnende Herbstnacht hinein. \n\nDauer 1 h\nStart Vineta Bürgerhaus\nTickets erhältlich auf https://barth.palisis.com/\, im Vineta Bürgerhaus
URL:https://www.speicher-barth.de/event/lights-on-die-lichterfahrt/
LOCATION:Barth Innenstadt\, Barth\, 18356
ORGANIZER;CN="Vineta B%C3%BCrgerhaus":MAILTO:info@stadt-barth.de
END:VEVENT
BEGIN:VEVENT
DTSTART;TZID=Europe/Berlin:20251017T170000
DTEND;TZID=Europe/Berlin:20251017T200000
DTSTAMP:20260422T080640
CREATED:20250618T130310Z
LAST-MODIFIED:20250618T130310Z
UID:10566-1760720400-1760731200@www.speicher-barth.de
SUMMARY:Licht und Feuer powered by Stadtwerke Barth
DESCRIPTION:Lichtshow\, Lichtkünstler\, leckeres Essen und Getränke und alles auf dem Barther Marktplatz. Mit ihrer neuen Show wird euch Pia auch in diesem Jahr wieder begeistern. Bringt alle etwas Leuchtendes mit. Eintritt frei!
URL:https://www.speicher-barth.de/event/licht-und-feuer-powered-by-stadtwerke-barth/
LOCATION:Marktplatz Barth\, Am Markt\, Barth\, 18356\, Deutschland
ORGANIZER;CN="Vineta B%C3%BCrgerhaus":MAILTO:info@stadt-barth.de
END:VEVENT
BEGIN:VEVENT
DTSTART;TZID=Europe/Berlin:20250926T170000
DTEND;TZID=Europe/Berlin:20250926T210000
DTSTAMP:20260422T080640
CREATED:20250924T074844Z
LAST-MODIFIED:20250924T074919Z
UID:10607-1758906000-1758920400@www.speicher-barth.de
SUMMARY:Große Kranichtour
DESCRIPTION:Mit der Reederei Poschke jeden Montag & Samstag vom Barther Hafen auf große Kranichtour über den Barther Bodden und die Grabow bis zum Pramort.\nErlebt die Vögel des Glücks bei einer 4 Stündigen Tour hautnah.
URL:https://www.speicher-barth.de/event/grosse-kranichtour-2/
LOCATION:Barther Hafen\, Hafenstraße\, Barth\, 18356
ATTACH;FMTTYPE=image/jpeg:https://www.speicher-barth.de/wp-content/uploads/2025/09/cranes-4548448_1280.jpg
ORGANIZER;CN="Reederei Poschke":MAILTO:info@reederei-poschke.de
END:VEVENT
BEGIN:VEVENT
DTSTART;TZID=Europe/Berlin:20250924T100000
DTEND;TZID=Europe/Berlin:20251002T120000
DTSTAMP:20260422T080640
CREATED:20250924T073318Z
LAST-MODIFIED:20250924T073318Z
UID:10602-1758708000-1759406400@www.speicher-barth.de
SUMMARY:Offenes Dammtor
DESCRIPTION:Das 35m hohe Dammtor stellte einst ein wichtiges Glied in der Stadtverteidigung dar. Der 1357 erwähnte Backsteinturm bildete den westlichen Stadtausgang\, der einen weiten Rundblick über das Land und die See gestattete. Und diesen Blick kannst du jetzt genießen. Bis zum 02. Oktober 2025 von Montag bis Freitag von 10 – 12 Uhr und 13 – 15 Uhr
URL:https://www.speicher-barth.de/event/offenes-dammtor/
LOCATION:Dammtor Barth\, Dammstraße\, Barth\, 18356
ORGANIZER;CN="Vineta B%C3%BCrgerhaus":MAILTO:info@stadt-barth.de
END:VEVENT
BEGIN:VEVENT
DTSTART;TZID=Europe/Berlin:20250914T120000
DTEND;TZID=Europe/Berlin:20250914T180000
DTSTAMP:20260422T080640
CREATED:20250618T125627Z
LAST-MODIFIED:20250618T125627Z
UID:10558-1757851200-1757872800@www.speicher-barth.de
SUMMARY:Stadtfest "Barther Herbstzauber"
DESCRIPTION:Shoppen & Schlendern am Sonntag\, den 8. September in der Barther Innenstadt ab 12 Uhr. Ein verkaufsoffener Sonntag der etwas anderen Art.
URL:https://www.speicher-barth.de/event/stadtfest-barther-herbstzauber-3/
LOCATION:Barth Innenstadt\, Barth\, 18356
ORGANIZER;CN="Vineta B%C3%BCrgerhaus":MAILTO:info@stadt-barth.de
END:VEVENT
BEGIN:VEVENT
DTSTART;TZID=Europe/Berlin:20250822T160000
DTEND;TZID=Europe/Berlin:20250824T180000
DTSTAMP:20260422T080640
CREATED:20250618T124529Z
LAST-MODIFIED:20250618T124529Z
UID:10556-1755878400-1756058400@www.speicher-barth.de
SUMMARY:Mittelalter Markt - Schlacht um Vineta
DESCRIPTION:Mittelaltermarkt in den Barther Anlagen.
URL:https://www.speicher-barth.de/event/mittelalter-markt-schlacht-um-vineta/
LOCATION:Barther Anlagen\, Nobertstraße\, Barth\, 18356
END:VEVENT
BEGIN:VEVENT
DTSTART;TZID=Europe/Berlin:20250816T193000
DTEND;TZID=Europe/Berlin:20250816T230000
DTSTAMP:20260422T080640
CREATED:20250721T125557Z
LAST-MODIFIED:20250721T125557Z
UID:10575-1755372600-1755385200@www.speicher-barth.de
SUMMARY:Partyboot - "Unter dem Meer"
DESCRIPTION:Das Barther Partyboot bricht auf zur nächsten Mottoparty. Erlebe an Bord Unterwasser-Vibes und coolen Party Mix von DJ Maik Schlodinski. \nEinlass: 19:00 Uhr\nAbfahrt: 19:30 Uhr\nAnkunft: 23:00 Uhr
URL:https://www.speicher-barth.de/event/partyboot-unter-dem-meer/
LOCATION:Barther Hafen\, Hafenstraße\, Barth\, 18356
ORGANIZER;CN="Vineta B%C3%BCrgerhaus":MAILTO:info@stadt-barth.de
END:VEVENT
BEGIN:VEVENT
DTSTART;TZID=Europe/Berlin:20250808T100000
DTEND;TZID=Europe/Berlin:20250810T190000
DTSTAMP:20260422T080640
CREATED:20250618T125845Z
LAST-MODIFIED:20250618T125845Z
UID:10560-1754647200-1754852400@www.speicher-barth.de
SUMMARY:5. Handgemacht Markt
DESCRIPTION:Ein herrlicher Hafenplatz am Bodden lädt ein. Zum 5. Mal stehen wir mit unseren 35 Kunsthandwerkern und Anbietern schöner und auch leckerer Dinge auf dem schönen und zentralen Hafenplatz von Barth.
URL:https://www.speicher-barth.de/event/5-handgemacht-markt/
LOCATION:Barther Hafen\, Hafenstraße\, Barth\, 18356
ORGANIZER;CN="Handgemacht-M%C3%A4rkte":MAILTO:handgemacht-maerkte@web.de
END:VEVENT
BEGIN:VEVENT
DTSTART;TZID=Europe/Berlin:20250728T143000
DTEND;TZID=Europe/Berlin:20250728T153000
DTSTAMP:20260422T080640
CREATED:20250721T125355Z
LAST-MODIFIED:20250721T125355Z
UID:10573-1753713000-1753716600@www.speicher-barth.de
SUMMARY:Sightseeing mit der Darßbahn
DESCRIPTION:Mit der Darssbahn erkundet ihr die Stadt Barth und erfahrt Interessantes zur Stadtgeschichte\, könnt Tore\, Türen\, Häuser gucken und die Nasen im Fahrtwind wehen lassen. Ideal auch für Familien. Begleitet wird die Tour von einem erfahrenen Stadtführer. \nStart der Tour in 18356 Barth\, Am Hafen Fahrtdauer ca. 1 Stunde \nTickets: * 12 € p.P. (Kinder ermäßigt)\, *Inhaber einer Gästekarte Fischland-Darß-Zingst 10 € p.P. \n 
URL:https://www.speicher-barth.de/event/sightseeing-mit-der-darssbahn/
LOCATION:Barther Hafen\, Hafenstraße\, Barth\, 18356
ORGANIZER;CN="Vineta B%C3%BCrgerhaus":MAILTO:info@stadt-barth.de
END:VEVENT
BEGIN:VEVENT
DTSTART;TZID=Europe/Berlin:20250724T193000
DTEND;TZID=Europe/Berlin:20250724T213000
DTSTAMP:20260422T080640
CREATED:20250721T130702Z
LAST-MODIFIED:20250721T131313Z
UID:10580-1753385400-1753392600@www.speicher-barth.de
SUMMARY:Die Wikinger - Das Geheimrezept
DESCRIPTION:Eine neue Wikinger-Saga von Oliver Trautwein und Tatjana Rese. \nDas Sommertheater im Barther Theatergarten – das Highlight\, dass du auf keinen Fall verpassen solltest! \n\n 
URL:https://www.speicher-barth.de/event/die-wikinger-das-geheimrezept/
LOCATION:Barther Theatergarten\, Trebin 35 a\, Barth\, 18356
END:VEVENT
BEGIN:VEVENT
DTSTART;TZID=Europe/Berlin:20250724T120000
DTEND;TZID=Europe/Berlin:20250727T200000
DTSTAMP:20260422T080640
CREATED:20250412T120805Z
LAST-MODIFIED:20250412T120805Z
UID:10517-1753358400-1753646400@www.speicher-barth.de
SUMMARY:Wallensteintage Stralsund
DESCRIPTION:Wie jedes Jahr finden auch dieses Jahr wieder die beliebten Wallensteintage im Herzen der Hansestadt Stralsund statt! Jedes Jahr erleben Sie an einem Wochenende in der Stadt das bunte Treiben mit Gaukelei und Jahrmarkt in Erinnerung an die erfolgreiche Abwehr Wallensteins im Jahre 1628. \nDas sollten Sie auf keinen Fall verpassen! \n 
URL:https://www.speicher-barth.de/event/wallensteintage-stralsund/
LOCATION:Altstadt Stralsund\, Alter Markt 3-4\, Stralsund\, 18439
ORGANIZER;CN="basic EVENTS GmbH":MAILTO:info@basic-events.de
END:VEVENT
BEGIN:VEVENT
DTSTART;TZID=Europe/Berlin:20250723T180000
DTEND;TZID=Europe/Berlin:20250723T220000
DTSTAMP:20260422T080640
CREATED:20250412T115213Z
LAST-MODIFIED:20250721T125110Z
UID:10510-1753293600-1753308000@www.speicher-barth.de
SUMMARY:Sounds im Sonnenuntergang
DESCRIPTION:Die Sommertradition in Barth ist auch dieses Jahr wieder zurück!\nJeden Mittwoch können Sie am Hafen wieder Party und Sommer erleben\, und das bei den schönsten Sonnenuntergängen die unsere kleine Stadt zu bieten hat. Dabei sind immer Livebands und ein DJ. Wir freuen uns auf unvergessliche Abende – Sie auch? \nVom 9. Juli – 3. September 2025.\n(außer am am 30. Juli)
URL:https://www.speicher-barth.de/event/sounds-im-sonnenuntergang-7/
LOCATION:Barther Hafen\, Hafenstraße\, Barth\, 18356
ATTACH;FMTTYPE=image/jpeg:https://www.speicher-barth.de/wp-content/uploads/2023/02/AG_9908.jpg
ORGANIZER;CN="Vineta B%C3%BCrgerhaus":MAILTO:info@stadt-barth.de
END:VEVENT
BEGIN:VEVENT
DTSTART;TZID=Europe/Berlin:20250705T100000
DTEND;TZID=Europe/Berlin:20250705T180000
DTSTAMP:20260422T080640
CREATED:20250412T120111Z
LAST-MODIFIED:20250412T120111Z
UID:10512-1751709600-1751738400@www.speicher-barth.de
SUMMARY:40. Wustrower Zeesbootregatta
DESCRIPTION:Eine Jubiläums-Regatta mit einem regionalem Kunsthandwerkermarkt\, Livemusik & Bühnenprogramm sowie Verpflegung bieten die Möglichkeit für einen Tag\, den man so schnell nicht mehr vergisst! \nDer Eintritt ist frei.
URL:https://www.speicher-barth.de/event/40-wustrower-zeesbootregatta/
LOCATION:Fischländer Hafen Wustrow\, Hafenstraße\, Wustrow\, 18437
ATTACH;FMTTYPE=image/jpeg:https://www.speicher-barth.de/wp-content/uploads/2025/04/zeesboot-2472158_1280.jpg
ORGANIZER;CN="Kurverwaltung Ostseebad Wustrow":MAILTO:kurverwaltung@ostseebad-wustrow.de
END:VEVENT
BEGIN:VEVENT
DTSTART;TZID=Europe/Berlin:20250628T090000
DTEND;TZID=Europe/Berlin:20250628T210000
DTSTAMP:20260422T080640
CREATED:20250109T081834Z
LAST-MODIFIED:20250109T081834Z
UID:10466-1751101200-1751144400@www.speicher-barth.de
SUMMARY:197. Barther Kinderfest
DESCRIPTION:Eine der schönsten Traditionen in Barth – das Kinderfest!\nZuvor werden morgens ab 7:00 Uhr die Barther Bürger von verschiedenen Musikzügen geweckt.\nUm 9:00 Uhr ist dann die Eröffnung auf dem Marktplatz. In den Anlagen gibt es dann den ganzen Tag Spiel und Spaß für die ganze Familie mit wunderschönem Bühnenprogramm!
URL:https://www.speicher-barth.de/event/197-barther-kinderfest/
LOCATION:Barther Anlagen\, Nobertstraße\, Barth\, 18356
ATTACH;FMTTYPE=image/jpeg:https://www.speicher-barth.de/wp-content/uploads/2023/02/freilichtbuehne_kinderfest.jpg
ORGANIZER;CN="Barther Heimatverein":MAILTO:mario-galepp@t-online.de
END:VEVENT
END:VCALENDAR