BEGIN:VCALENDAR
VERSION:2.0
PRODID:-//Hotel Speicher Barth - ECPv6.15.20//NONSGML v1.0//EN
CALSCALE:GREGORIAN
METHOD:PUBLISH
X-WR-CALNAME:Hotel Speicher Barth
X-ORIGINAL-URL:https://www.speicher-barth.de
X-WR-CALDESC:Veranstaltungen für Hotel Speicher Barth
REFRESH-INTERVAL;VALUE=DURATION:PT1H
X-Robots-Tag:noindex
X-PUBLISHED-TTL:PT1H
BEGIN:VTIMEZONE
TZID:Europe/Berlin
BEGIN:DAYLIGHT
TZOFFSETFROM:+0100
TZOFFSETTO:+0200
TZNAME:CEST
DTSTART:20240331T010000
END:DAYLIGHT
BEGIN:STANDARD
TZOFFSETFROM:+0200
TZOFFSETTO:+0100
TZNAME:CET
DTSTART:20241027T010000
END:STANDARD
BEGIN:DAYLIGHT
TZOFFSETFROM:+0100
TZOFFSETTO:+0200
TZNAME:CEST
DTSTART:20250330T010000
END:DAYLIGHT
BEGIN:STANDARD
TZOFFSETFROM:+0200
TZOFFSETTO:+0100
TZNAME:CET
DTSTART:20251026T010000
END:STANDARD
BEGIN:DAYLIGHT
TZOFFSETFROM:+0100
TZOFFSETTO:+0200
TZNAME:CEST
DTSTART:20260329T010000
END:DAYLIGHT
BEGIN:STANDARD
TZOFFSETFROM:+0200
TZOFFSETTO:+0100
TZNAME:CET
DTSTART:20261025T010000
END:STANDARD
END:VTIMEZONE
BEGIN:VEVENT
DTSTART;TZID=Europe/Berlin:20250430T190000
DTEND;TZID=Europe/Berlin:20250501T020000
DTSTAMP:20260424T203819
CREATED:20250412T114812Z
LAST-MODIFIED:20250412T114812Z
UID:10508-1746039600-1746064800@www.speicher-barth.de
SUMMARY:Tanz in den Mai
DESCRIPTION:Familienfest bei der freiwilligen Feuerwehr in Barth mit Musik und Tanz\, jedes Jahr ein Highlight das man nicht verpassen sollte! \n 
URL:https://www.speicher-barth.de/event/tanz-in-den-mai-2/
LOCATION:Freiwillige Feuerwehr Barth\, Hölzern-Kreuz-Weg 13\, Barth\, 18356
END:VEVENT
BEGIN:VEVENT
DTSTART;TZID=Europe/Berlin:20250501T100000
DTEND;TZID=Europe/Berlin:20250501T160000
DTSTAMP:20260424T203819
CREATED:20250427T122437Z
LAST-MODIFIED:20250427T122437Z
UID:10525-1746093600-1746115200@www.speicher-barth.de
SUMMARY:Tag der offenen Tür bei der Feuerwehr
DESCRIPTION:Feuerwehrfest und Tag der offenen Tür für die ganze Familie bei der freiwilligen Feuer in Barth.\nDer Eintritt ist frei.
URL:https://www.speicher-barth.de/event/tag-der-offenen-tuer-bei-der-feuerwehr/
LOCATION:Freiwillige Feuerwehr Barth\, Hölzern-Kreuz-Weg 13\, Barth\, 18356
ATTACH;FMTTYPE=image/jpeg:https://www.speicher-barth.de/wp-content/uploads/2025/04/firetruck-6820125_1280.jpg
END:VEVENT
BEGIN:VEVENT
DTSTART;TZID=Europe/Berlin:20250516T180000
DTEND;TZID=Europe/Berlin:20250518T100000
DTSTAMP:20260424T203819
CREATED:20250109T080732Z
LAST-MODIFIED:20250109T080732Z
UID:10462-1747418400-1747562400@www.speicher-barth.de
SUMMARY:28. Barther Tonnenabschlagen
DESCRIPTION:Das Tonnenabschlagen gehört zu den ältesten Bräuchen in der Region. Hierbei handelt es sich um einen Wettstreit\, der meist zu Pferde ausgetragen wird. Geritten wird um die Königswürde des Tonnen-\, Stäben- bzw. Bodenkönigs – sie bleibt bis zum nächsten Tonnenabschlagen bestehen.
URL:https://www.speicher-barth.de/event/28-barther-tonnenabschlagen/
LOCATION:Festplatz Trebin\, Trebin\, Barth\, 18356
ATTACH;FMTTYPE=image/jpeg:https://www.speicher-barth.de/wp-content/uploads/2023/02/Tonnenabschlagen.jpg
ORGANIZER;CN="Tonnenbund-Barth e.V.":MAILTO:tonnenbund-barth@web.de
END:VEVENT
BEGIN:VEVENT
DTSTART;TZID=Europe/Berlin:20250516T210000
DTEND;TZID=Europe/Berlin:20250516T223000
DTSTAMP:20260424T203819
CREATED:20250427T122719Z
LAST-MODIFIED:20250427T122719Z
UID:10528-1747429200-1747434600@www.speicher-barth.de
SUMMARY:Barther Hexennächte
DESCRIPTION:Ein schauriger Rundgang rund um die Hexenprozesse durch die Stadt Barth. \nTickets 8 € im Vineta-Bürgerhaus oder Online.
URL:https://www.speicher-barth.de/event/barther-hexennaechte-2/
LOCATION:Barth Innenstadt\, Barth\, 18356
ATTACH;FMTTYPE=image/jpeg:https://www.speicher-barth.de/wp-content/uploads/2024/08/witch-ban-441868_1280.jpg
ORGANIZER;CN="Vineta B%C3%BCrgerhaus":MAILTO:info@stadt-barth.de
END:VEVENT
BEGIN:VEVENT
DTSTART;TZID=Europe/Berlin:20250529T110000
DTEND;TZID=Europe/Berlin:20250529T170000
DTSTAMP:20260424T203819
CREATED:20250428T091931Z
LAST-MODIFIED:20250428T091931Z
UID:10530-1748516400-1748538000@www.speicher-barth.de
SUMMARY:Herrentag im Cafégarten sundische Wiese Zingst
DESCRIPTION:Einmal im Jahr tauschen wir Ruhe gegen Trubel. \nStartet eure Fahrradtour am Zingster Hafen und radelt rund 10 Kilometer durch den wunderschönen Nationalpark Vorpommersche Boddenlandschaft. \nVorbei an Müggenburg\, mit herrlichem Blick über den Bodden bis nach Barth – einfach traumhaft. \nWer lieber zu Fuß unterwegs ist\, kann entspannt durch den Osterwald wandern – perfekt für Familien\, die gemeinsam Zeit in der Natur genießen möchten. \nBei uns im Cafégarten Sundische Wiese erwartet euch: \nEntspannte Musik\, kühle Getränke\, leckere Thüringer Bratwurst vom Grill und eine Hüpfburg für die Kids. \nOb mit Bollerwagen\, Fahrrad oder einfach zu Fuß – kommt vorbei und verbringt mit uns einen fröhlichen Tag unter freiem Himmel. \nGenießt die Natur\, gute Gespräche und ein bisschen Küstengemütlichkeit. \nWir haben von 11 bis 17 Uhr für euch geöffnet und freuen uns riesig auf euren Besuch! \n 
URL:https://www.speicher-barth.de/event/herrentag-im-cafegarten-sundische-wiese-zingst/
LOCATION:Schlösschen\, Landstraße 32\, Zingst\, 18374
END:VEVENT
END:VCALENDAR