BEGIN:VCALENDAR
VERSION:2.0
PRODID:-//Hotel Speicher Barth - ECPv6.15.20//NONSGML v1.0//EN
CALSCALE:GREGORIAN
METHOD:PUBLISH
X-ORIGINAL-URL:https://www.speicher-barth.de
X-WR-CALDESC:Veranstaltungen für Hotel Speicher Barth
REFRESH-INTERVAL;VALUE=DURATION:PT1H
X-Robots-Tag:noindex
X-PUBLISHED-TTL:PT1H
BEGIN:VTIMEZONE
TZID:Europe/Berlin
BEGIN:DAYLIGHT
TZOFFSETFROM:+0100
TZOFFSETTO:+0200
TZNAME:CEST
DTSTART:20240331T010000
END:DAYLIGHT
BEGIN:STANDARD
TZOFFSETFROM:+0200
TZOFFSETTO:+0100
TZNAME:CET
DTSTART:20241027T010000
END:STANDARD
BEGIN:DAYLIGHT
TZOFFSETFROM:+0100
TZOFFSETTO:+0200
TZNAME:CEST
DTSTART:20250330T010000
END:DAYLIGHT
BEGIN:STANDARD
TZOFFSETFROM:+0200
TZOFFSETTO:+0100
TZNAME:CET
DTSTART:20251026T010000
END:STANDARD
BEGIN:DAYLIGHT
TZOFFSETFROM:+0100
TZOFFSETTO:+0200
TZNAME:CEST
DTSTART:20260329T010000
END:DAYLIGHT
BEGIN:STANDARD
TZOFFSETFROM:+0200
TZOFFSETTO:+0100
TZNAME:CET
DTSTART:20261025T010000
END:STANDARD
BEGIN:DAYLIGHT
TZOFFSETFROM:+0100
TZOFFSETTO:+0200
TZNAME:CEST
DTSTART:20270328T010000
END:DAYLIGHT
BEGIN:STANDARD
TZOFFSETFROM:+0200
TZOFFSETTO:+0100
TZNAME:CET
DTSTART:20271031T010000
END:STANDARD
END:VTIMEZONE
BEGIN:VEVENT
DTSTART;TZID=Europe/Berlin:20251121T180000
DTEND;TZID=Europe/Berlin:20251121T210000
DTSTAMP:20260422T163322
CREATED:20250918T061447Z
LAST-MODIFIED:20250918T061447Z
UID:10598-1763748000-1763758800@www.speicher-barth.de
SUMMARY:HÄNDE HOCH! Musikalische Krimi-Lesung mit Bert Lingnau und Robert Meyer
DESCRIPTION:Eine musikalische Krimi – Lesung mit Bert Lingnau und Robert Meyer begleitet von einem leckeren 3-Gang Menü.
URL:https://www.speicher-barth.de/event/haende-hoch-musikalische-krimi-lesung-mit-bert-lingnau-und-robert-meyer/
LOCATION:Ingo´s Restaurant\, Am Osthafen 2\, Barth\, 18356\, Germany
ATTACH;FMTTYPE=image/jpeg:https://www.speicher-barth.de/wp-content/uploads/2025/09/a-book-4835623_1280.jpg
END:VEVENT
BEGIN:VEVENT
DTSTART;TZID=Europe/Berlin:20251122T100000
DTEND;TZID=Europe/Berlin:20251122T170000
DTSTAMP:20260422T163322
CREATED:20250924T073650Z
LAST-MODIFIED:20250924T073650Z
UID:10605-1763805600-1763830800@www.speicher-barth.de
SUMMARY:Frauen.Werk
DESCRIPTION:Schenkt euch Frauen einen Tag Auszeit im Vineta Bürgerhaus in Barth. Eine „Frauenmesse“ mit dem ganz besonderen Wohlfühlcharakter.\n„Zeit für mich & für meine Freundinnen“\, dieser Gedanke steckt hinter unserer Veranstaltung.
URL:https://www.speicher-barth.de/event/frauen-werk/
LOCATION:Vineta Bürgerhaus\, Papenstraße 8\, Barth\, 18356
ORGANIZER;CN="Vineta B%C3%BCrgerhaus":MAILTO:info@stadt-barth.de
END:VEVENT
BEGIN:VEVENT
DTSTART;TZID=Europe/Berlin:20251124T100000
DTEND;TZID=Europe/Berlin:20260104T200000
DTSTAMP:20260422T163322
CREATED:20251015T070839Z
LAST-MODIFIED:20251015T070932Z
UID:10632-1763978400-1767556800@www.speicher-barth.de
SUMMARY:Stralsunder Weihnachtsmarkt
DESCRIPTION:Erleben Sie vom 24. November bis zum 4. Januar\, wie sich die historische Altstadt Stralsunds in eine stimmungsvolle Winterlandschaft verwandelt.\nDer Weihnachtsmarkt erstreckt sich über vier einzigartige Orte – Alter Markt\, Neuer Markt\, Rathauskeller und Johanniskloster und ist ein Highlight für die ganze Familie.
URL:https://www.speicher-barth.de/event/stralsunder-weihnachtsmarkt/
LOCATION:Altstadt Stralsund\, Alter Markt 3-4\, Stralsund\, 18439
ATTACH;FMTTYPE=image/jpeg:https://www.speicher-barth.de/wp-content/uploads/2025/10/christmas-market-540918_1280.jpg
ORGANIZER;CN="Stadtwerke Stralsund":MAILTO:weihnachtsmarkt@stadtwerke-stralsund.de
END:VEVENT
END:VCALENDAR