BEGIN:VCALENDAR
VERSION:2.0
PRODID:-//Hotel Speicher Barth - ECPv6.15.20//NONSGML v1.0//EN
CALSCALE:GREGORIAN
METHOD:PUBLISH
X-ORIGINAL-URL:https://www.speicher-barth.de
X-WR-CALDESC:Veranstaltungen für Hotel Speicher Barth
REFRESH-INTERVAL;VALUE=DURATION:PT1H
X-Robots-Tag:noindex
X-PUBLISHED-TTL:PT1H
BEGIN:VTIMEZONE
TZID:Europe/Berlin
BEGIN:DAYLIGHT
TZOFFSETFROM:+0100
TZOFFSETTO:+0200
TZNAME:CEST
DTSTART:20240331T010000
END:DAYLIGHT
BEGIN:STANDARD
TZOFFSETFROM:+0200
TZOFFSETTO:+0100
TZNAME:CET
DTSTART:20241027T010000
END:STANDARD
BEGIN:DAYLIGHT
TZOFFSETFROM:+0100
TZOFFSETTO:+0200
TZNAME:CEST
DTSTART:20250330T010000
END:DAYLIGHT
BEGIN:STANDARD
TZOFFSETFROM:+0200
TZOFFSETTO:+0100
TZNAME:CET
DTSTART:20251026T010000
END:STANDARD
BEGIN:DAYLIGHT
TZOFFSETFROM:+0100
TZOFFSETTO:+0200
TZNAME:CEST
DTSTART:20260329T010000
END:DAYLIGHT
BEGIN:STANDARD
TZOFFSETFROM:+0200
TZOFFSETTO:+0100
TZNAME:CET
DTSTART:20261025T010000
END:STANDARD
BEGIN:DAYLIGHT
TZOFFSETFROM:+0100
TZOFFSETTO:+0200
TZNAME:CEST
DTSTART:20270328T010000
END:DAYLIGHT
BEGIN:STANDARD
TZOFFSETFROM:+0200
TZOFFSETTO:+0100
TZNAME:CET
DTSTART:20271031T010000
END:STANDARD
END:VTIMEZONE
BEGIN:VEVENT
DTSTART;TZID=Europe/Berlin:20251124T100000
DTEND;TZID=Europe/Berlin:20260104T200000
DTSTAMP:20260422T135235
CREATED:20251015T070839Z
LAST-MODIFIED:20251015T070932Z
UID:10632-1763978400-1767556800@www.speicher-barth.de
SUMMARY:Stralsunder Weihnachtsmarkt
DESCRIPTION:Erleben Sie vom 24. November bis zum 4. Januar\, wie sich die historische Altstadt Stralsunds in eine stimmungsvolle Winterlandschaft verwandelt.\nDer Weihnachtsmarkt erstreckt sich über vier einzigartige Orte – Alter Markt\, Neuer Markt\, Rathauskeller und Johanniskloster und ist ein Highlight für die ganze Familie.
URL:https://www.speicher-barth.de/event/stralsunder-weihnachtsmarkt/
LOCATION:Altstadt Stralsund\, Alter Markt 3-4\, Stralsund\, 18439
ATTACH;FMTTYPE=image/jpeg:https://www.speicher-barth.de/wp-content/uploads/2025/10/christmas-market-540918_1280.jpg
ORGANIZER;CN="Stadtwerke Stralsund":MAILTO:weihnachtsmarkt@stadtwerke-stralsund.de
END:VEVENT
BEGIN:VEVENT
DTSTART;TZID=Europe/Berlin:20251220T200000
DTEND;TZID=Europe/Berlin:20251221T020000
DTSTAMP:20260422T135235
CREATED:20250109T082159Z
LAST-MODIFIED:20250109T082159Z
UID:10468-1766260800-1766282400@www.speicher-barth.de
SUMMARY:White Christmas Party
DESCRIPTION:Wie jedes Jahr wartet auch 2025 die White Christmas Party auf Sie. Ganz im Stile von alles ist weiß heizt Ihnen ein DJ die Nacht über ein.\nTickets: 20\,00 €\, Einlass ab 18 Jahre \nSchnell sein lohnt sich – die Tickets sind immer schnell ausverkauft!
URL:https://www.speicher-barth.de/event/white-christmas-party/
LOCATION:Vineta Bürgerhaus\, Papenstraße 8\, Barth\, 18356
ATTACH;FMTTYPE=image/jpeg:https://www.speicher-barth.de/wp-content/uploads/2023/10/snowman-1090261_1280.jpg
ORGANIZER;CN="Vineta B%C3%BCrgerhaus":MAILTO:info@stadt-barth.de
END:VEVENT
BEGIN:VEVENT
DTSTART;TZID=Europe/Berlin:20251231T170000
DTEND;TZID=Europe/Berlin:20251231T180000
DTSTAMP:20260422T135235
CREATED:20251213T150928Z
LAST-MODIFIED:20251213T150928Z
UID:10680-1767200400-1767204000@www.speicher-barth.de
SUMMARY:Wunschlichterfahrt
DESCRIPTION:„Am Silvesterabend lädt die Glückssternfee Taraloka zu einer magischen Wunschlichterfahrt durch Barth ein. In der stimmungsvoll beleuchteten Wunschbahn erleben Kinder und Erwachsene eine besondere Stunde\, die ganz den Wünschen für das kommende Jahr gewidmet ist.\nMit stillen Momenten der Achtsamkeit\, feinem Feenzauber und einem leuchtenden Wunschlicht entsteht eine atmosphärische Reise voller Hoffnung und innerer Freude.“\n– https://www.stadt-barth.de/event-details/152393-wunschlichterfahrt.html
URL:https://www.speicher-barth.de/event/wunschlichterfahrt/
LOCATION:Vineta Bürgerhaus\, Papenstraße 8\, Barth\, 18356
ORGANIZER;CN="Vineta B%C3%BCrgerhaus":MAILTO:info@stadt-barth.de
END:VEVENT
END:VCALENDAR