BEGIN:VCALENDAR
VERSION:2.0
PRODID:-//Hotel Speicher Barth - ECPv6.15.20//NONSGML v1.0//EN
CALSCALE:GREGORIAN
METHOD:PUBLISH
X-ORIGINAL-URL:https://www.speicher-barth.de
X-WR-CALDESC:Veranstaltungen für Hotel Speicher Barth
REFRESH-INTERVAL;VALUE=DURATION:PT1H
X-Robots-Tag:noindex
X-PUBLISHED-TTL:PT1H
BEGIN:VTIMEZONE
TZID:Europe/Berlin
BEGIN:DAYLIGHT
TZOFFSETFROM:+0100
TZOFFSETTO:+0200
TZNAME:CEST
DTSTART:20250330T010000
END:DAYLIGHT
BEGIN:STANDARD
TZOFFSETFROM:+0200
TZOFFSETTO:+0100
TZNAME:CET
DTSTART:20251026T010000
END:STANDARD
BEGIN:DAYLIGHT
TZOFFSETFROM:+0100
TZOFFSETTO:+0200
TZNAME:CEST
DTSTART:20260329T010000
END:DAYLIGHT
BEGIN:STANDARD
TZOFFSETFROM:+0200
TZOFFSETTO:+0100
TZNAME:CET
DTSTART:20261025T010000
END:STANDARD
BEGIN:DAYLIGHT
TZOFFSETFROM:+0100
TZOFFSETTO:+0200
TZNAME:CEST
DTSTART:20270328T010000
END:DAYLIGHT
BEGIN:STANDARD
TZOFFSETFROM:+0200
TZOFFSETTO:+0100
TZNAME:CET
DTSTART:20271031T010000
END:STANDARD
END:VTIMEZONE
BEGIN:VEVENT
DTSTART;TZID=Europe/Berlin:20260523T150000
DTEND;TZID=Europe/Berlin:20260523T200000
DTSTAMP:20260422T075648
CREATED:20260103T095953Z
LAST-MODIFIED:20260103T095953Z
UID:10706-1779548400-1779566400@www.speicher-barth.de
SUMMARY:Musikalische Pfingstpartie
DESCRIPTION:„Zum dritten Mal lädt die Stadt Barth dich zu einem ganz besonderen Frühlingsfest ein – der musikalischen Pfingstpartie!\nErlebe zwei Tage voller großartiger Live-Musik in entspannter Atmosphäre und genussvoller Momente.“ – www.stadt-barth.de
URL:https://www.speicher-barth.de/event/musikalische-pfingstpartie-2/
LOCATION:Vineta Bürgerhaus\, Papenstraße 8\, Barth\, 18356
ORGANIZER;CN="Vineta B%C3%BCrgerhaus":MAILTO:info@stadt-barth.de
END:VEVENT
END:VCALENDAR