BEGIN:VCALENDAR
VERSION:2.0
PRODID:-//Hotel Speicher Barth - ECPv6.15.20//NONSGML v1.0//EN
CALSCALE:GREGORIAN
METHOD:PUBLISH
X-ORIGINAL-URL:https://www.speicher-barth.de
X-WR-CALDESC:Veranstaltungen für Hotel Speicher Barth
REFRESH-INTERVAL;VALUE=DURATION:PT1H
X-Robots-Tag:noindex
X-PUBLISHED-TTL:PT1H
BEGIN:VTIMEZONE
TZID:Europe/Berlin
BEGIN:DAYLIGHT
TZOFFSETFROM:+0100
TZOFFSETTO:+0200
TZNAME:CEST
DTSTART:20250330T010000
END:DAYLIGHT
BEGIN:STANDARD
TZOFFSETFROM:+0200
TZOFFSETTO:+0100
TZNAME:CET
DTSTART:20251026T010000
END:STANDARD
BEGIN:DAYLIGHT
TZOFFSETFROM:+0100
TZOFFSETTO:+0200
TZNAME:CEST
DTSTART:20260329T010000
END:DAYLIGHT
BEGIN:STANDARD
TZOFFSETFROM:+0200
TZOFFSETTO:+0100
TZNAME:CET
DTSTART:20261025T010000
END:STANDARD
BEGIN:DAYLIGHT
TZOFFSETFROM:+0100
TZOFFSETTO:+0200
TZNAME:CEST
DTSTART:20270328T010000
END:DAYLIGHT
BEGIN:STANDARD
TZOFFSETFROM:+0200
TZOFFSETTO:+0100
TZNAME:CET
DTSTART:20271031T010000
END:STANDARD
END:VTIMEZONE
BEGIN:VEVENT
DTSTART;TZID=Europe/Berlin:20261031T100000
DTEND;TZID=Europe/Berlin:20261031T170000
DTSTAMP:20260422T150515
CREATED:20260103T095820Z
LAST-MODIFIED:20260103T095820Z
UID:10704-1793440800-1793466000@www.speicher-barth.de
SUMMARY:Lichtmoment - 25. Jahre Bibelzentrum
DESCRIPTION:Das Bibelzentrum Barth feiert sein 25-jähriges Bestehen mit einem bunten Tagesprogramm voller Mitmachaktionen\, Einblicke\, Erlebnisse und Lichter im Bibelzentrum.
URL:https://www.speicher-barth.de/event/lichtmoment-25-jahre-bibelzentrum/
LOCATION:Barther Bibelzentrum\, Sundische Straße 52\, Barth\, 18356\, Deutschland
ATTACH;FMTTYPE=image/jpeg:https://www.speicher-barth.de/wp-content/uploads/2023/02/AG_1587.jpg
ORGANIZER;CN="Bibelzentrum Barth":MAILTO:info@bibelzentrum-barth.de
END:VEVENT
END:VCALENDAR